BEGIN:VCALENDAR
VERSION:2.0
PRODID:-//Es Luz del Alma - ECPv6.15.20//NONSGML v1.0//EN
CALSCALE:GREGORIAN
METHOD:PUBLISH
X-WR-CALNAME:Es Luz del Alma
X-ORIGINAL-URL:https://esluzdelalma.es
X-WR-CALDESC:Eventos para Es Luz del Alma
REFRESH-INTERVAL;VALUE=DURATION:PT1H
X-Robots-Tag:noindex
X-PUBLISHED-TTL:PT1H
BEGIN:VTIMEZONE
TZID:Europe/Madrid
BEGIN:DAYLIGHT
TZOFFSETFROM:+0100
TZOFFSETTO:+0200
TZNAME:CEST
DTSTART:20230326T010000
END:DAYLIGHT
BEGIN:STANDARD
TZOFFSETFROM:+0200
TZOFFSETTO:+0100
TZNAME:CET
DTSTART:20231029T010000
END:STANDARD
BEGIN:DAYLIGHT
TZOFFSETFROM:+0100
TZOFFSETTO:+0200
TZNAME:CEST
DTSTART:20240331T010000
END:DAYLIGHT
BEGIN:STANDARD
TZOFFSETFROM:+0200
TZOFFSETTO:+0100
TZNAME:CET
DTSTART:20241027T010000
END:STANDARD
BEGIN:DAYLIGHT
TZOFFSETFROM:+0100
TZOFFSETTO:+0200
TZNAME:CEST
DTSTART:20250330T010000
END:DAYLIGHT
BEGIN:STANDARD
TZOFFSETFROM:+0200
TZOFFSETTO:+0100
TZNAME:CET
DTSTART:20251026T010000
END:STANDARD
BEGIN:DAYLIGHT
TZOFFSETFROM:+0100
TZOFFSETTO:+0200
TZNAME:CEST
DTSTART:20260329T010000
END:DAYLIGHT
BEGIN:STANDARD
TZOFFSETFROM:+0200
TZOFFSETTO:+0100
TZNAME:CET
DTSTART:20261025T010000
END:STANDARD
END:VTIMEZONE
BEGIN:VEVENT
DTSTART;TZID=Europe/Madrid:20251106T101500
DTEND;TZID=Europe/Madrid:20251106T230000
DTSTAMP:20260420T211728
CREATED:20251030T231908Z
LAST-MODIFIED:20251030T232215Z
UID:1106-1762424100-1762470000@esluzdelalma.es
SUMMARY:Mini-Taller GRATUITO de Kinesiología T.I.N.
DESCRIPTION:Participa en un mini-taller GRATUITO de KINESIOLOGÍA T.I.N. en la feria Biocultura Madrid 2025 en IFEMA. \n¿Sabes lo que es la KINESIOLOGÍA T.I.N.? \nLa Kinesiología es un método terapéutico y de testaje neuro-funcional\, con infinitas posibilidades.\nKinesiología supone un concepto nuevo en cuanto a la integración de componentes ya conocidos y con una larga trayectoria experimental\, como la Medicina Tradicional China\, puntos reflejos nerviosos y circulatorios\, terapias manuales\, neurología\, nutrición\, bioquímica\, etc.\nIntegra razón e intuición\, lo científico y lo alternativo por lo que constituye un SISTEMA COMPLETO. \nSe realizarán consultas en directo con participantes del mini-taller. \nMas información sobre la formación completa en KINESIOLOGÍA T.I.N. en https://tienda.esluzdelalma.es/producto/formacion-en-kinesologia-t-i-n-tecnica-de-informacion-neurologica/ \nPuedes solicitarnos invitaciones gratuitas para la feria Biocultura escribiéndonos al mail asila@esluzdelalma.es
URL:https://esluzdelalma.es/evento/mini-taller-gratuito-de-kinesiologia-t-i-n/
LOCATION:RECINTO FERIAL IFEMA\, Av. del Partenón\, 5\, Barajas\, 28042 Madrid\, Madrid\, Madrid\, 28042\, Spain
CATEGORIES:Cursos y talleres,Ferias y eventos
ATTACH;FMTTYPE=image/jpeg:https://esluzdelalma.es/wp-content/uploads/2025/10/Formacion-en-Kinesiologia.jpg
ORGANIZER;CN="Asoc. Vidasana":MAILTO:info@vidasana.org
END:VEVENT
BEGIN:VEVENT
DTSTART;TZID=Europe/Madrid:20251106T100000
DTEND;TZID=Europe/Madrid:20251109T200000
DTSTAMP:20260420T211728
CREATED:20251011T234454Z
LAST-MODIFIED:20251031T232632Z
UID:1083-1762423200-1762718400@esluzdelalma.es
SUMMARY:Feria Biocultura Madrid 2025
DESCRIPTION:BioCultura. Feria de Productos Ecológicos y Consumo Responsable.\n6\, 7\, 8 y 9 de Noviembre de 2025\n41ª Edición\nhttps://www.biocultura.org/madrid/informacion\n \nBioCultura Madrid mostrará una vez más que lo “bio” no es/era una moda y que llegó para quedarse. \nLa feria se celebrará en noviembre en el recinto Feria de Madrid-Ifema. Los sectores serán: Alimentación ecológica; Cosmética e higiene eco-natural certificada; Casa sana; Moda sostenible; Eco Estilo de vida; Salud y Bienestar\, ONGs… Se espera la participación de 400 expositores y superar de nuevo los 55.000 visitantes. Paralelamente a la exposición se celebrarán más de 300 actividades. \nAqui puedes ver horarios y precios de entradas https://www.biocultura.org/madrid/horarios \nPIDENOS INVITACIONES GRATUITAS A TRAVES DE NUESTRO FORMULARIO DE CONTACTO\nBÚSCANOS EN EL STAND 303
URL:https://esluzdelalma.es/evento/feria-biocultura-madrid-2025/
LOCATION:RECINTO FERIAL IFEMA\, Av. del Partenón\, 5\, Barajas\, 28042 Madrid\, Madrid\, Madrid\, 28042\, Spain
CATEGORIES:Día del Aura,Ferias y eventos,Sonoterapia
ATTACH;FMTTYPE=image/png:https://esluzdelalma.es/wp-content/uploads/2024/05/LOGO-BIOCULTURA.png
ORGANIZER;CN="Asoc. Vidasana":MAILTO:info@vidasana.org
END:VEVENT
BEGIN:VEVENT
DTSTART;TZID=Europe/Madrid:20251031T101500
DTEND;TZID=Europe/Madrid:20251102T210000
DTSTAMP:20260420T211728
CREATED:20251011T233043Z
LAST-MODIFIED:20251011T233236Z
UID:1077-1761905700-1762117200@esluzdelalma.es
SUMMARY:Feria Magic'25 Otoño Barcelona
DESCRIPTION:Feria Magic’25 Barcelona Otoño \nEs Luz del Alma vamos a participar en la 44′ Edición de la Feria Magic Internacional. \nEstaremos realizando Fotografias\, Analisis y estudios del Aura en la feria y también podréis comprar todo la variedad exclusiva que ofrecemos de Diapasones\, Cuencos Tibetanos\, Gongs\, Tambores Chamánicos\, Cuencos de Cuarzo\, Handpans\, incienso tibetano y artesania de Nepal. \n+de 70 ponentes\n3 auditorios\, 3 salas de exposiciones y + de 100 actividades\nsolo 3 días: 31 de Octubre\, 1 y 2 de Noviembre en Barcelona\nDesde las 10:15 a las 21:00 ininterrumpidamente. \n¡¡¡Nos vemos dentro!!!
URL:https://esluzdelalma.es/evento/feria-magic25-otono-barcelona/
LOCATION:RECINTO WORLD TRADE CENTER de Barcelona\, Moll de Barcelona s/n\, Barcelona\, 08039\, Spain
CATEGORIES:Día del Aura,Ferias y eventos,Sonoterapia
ATTACH;FMTTYPE=image/jpeg:https://esluzdelalma.es/wp-content/uploads/2025/10/Cartel-cuadrado.jpg
END:VEVENT
BEGIN:VEVENT
DTSTART;TZID=Europe/Madrid:20251002T103000
DTEND;TZID=Europe/Madrid:20251005T203000
DTSTAMP:20260420T211728
CREATED:20250929T221739Z
LAST-MODIFIED:20250929T222010Z
UID:1071-1759401000-1759696200@esluzdelalma.es
SUMMARY:Feria Esotérica Madrid-Chamartín Octubre 2025
DESCRIPTION:La estación de Chamartín vuelve a acoger desde el jueves 2 de octubre una nueva edición la Feria Esotérica de Madrid. A lo largo de las 35 ediciones celebradas en Madrid\, la feria ha conseguido hacerse un hueco importante en la agenda de miles de personas aficionadas al esoterismo\, la espiritualidad y las terapias naturales. Además de los stands colocados en el interior del pabellon 2 de la zona del Zielou https://feriaesotericademadrid.com/ubicacion-2/\, quienes acudan al Salón del Esoterismo podrán disfrutar de conferencias o participar en talleres. \nDe 10:30 a 20:30h del Jueves 2 al Domingo 5 de Octubre 2025 (Domingo 5 de 10:30 a 19:00 h.)\nMas información en la web de los organizadores https://feriaesotericademadrid.com/
URL:https://esluzdelalma.es/evento/feria-esoterica-madrid-chamartin-octubre-2025/
LOCATION:ESTACIÓN DE MADRID – CHAMARTÍN – CLARA CAMPOAMOR\, C/ Agustín de Foxa\, s/n 28036 Madrid\, Madrid\, Madrid\, 28036\, Spain
CATEGORIES:Día del Aura,Ferias y eventos
ATTACH;FMTTYPE=image/jpeg:https://esluzdelalma.es/wp-content/uploads/2025/09/feria-esoterica-Madrid-Chamartin.jpg
END:VEVENT
BEGIN:VEVENT
DTSTART;TZID=Europe/Madrid:20250802T110000
DTEND;TZID=Europe/Madrid:20250810T210000
DTSTAMP:20260420T211728
CREATED:20250303T210652Z
LAST-MODIFIED:20250722T170004Z
UID:878-1754132400-1754859600@esluzdelalma.es
SUMMARY:Salón del Esoterismo de Donosti 2025
DESCRIPTION:El Palacio Miramar vuelve a acoger desde el sábado 2 de Agosto 2025 una nueva edición del Salón del Esoterismo. A lo largo de las 30 ediciones celebradas en Donostia\, la cita ha conseguido hacerse un hueco importante en la agenda de cientos de personas aficionadas al mundo esotérico y las terapias naturales. Además de los stands colocados en el interior del emblemático edificio\, quienes acudan al Salón del Esoterismo podrán disfrutar de conferencias o participar en talleres. \nDe 11 a 14h y 16:30 a 21h del Sábado 2 al Domingo 10 de Agosto 2025.\nMas información en la web de los organizadores https://almacuerpoymente.com
URL:https://esluzdelalma.es/evento/salon-de-esoterismo-de-donosti/
LOCATION:Palacio Miramar\, Paseo Miraconcha\, 48\, Donostia\, Guipuzcoa\, 20007\, Spain
CATEGORIES:Día del Aura,Ferias y eventos,Sonoterapia
ATTACH;FMTTYPE=image/png:https://esluzdelalma.es/wp-content/uploads/2025/03/Texto-1.png
ORGANIZER;CN="Asoc. Amigos de las artes adivinatorias":MAILTO:info@almacuerpoymente.com
END:VEVENT
BEGIN:VEVENT
DTSTART;VALUE=DATE:20250621
DTEND;VALUE=DATE:20250622
DTSTAMP:20260420T211728
CREATED:20250318T192243Z
LAST-MODIFIED:20250616T131638Z
UID:887-1750464000-1750550399@esluzdelalma.es
SUMMARY:Sesión de Sonoterapia grupal – 21 de Junio 2025 en San Rafael
DESCRIPTION:El próximo SÁBADO 21 de Junio del 2025\, vamos a realizar 4 sesiones grupales abiertas de SONOTERAPIA a lo largo de todo el día en plena sierra de Guadarrama (San Rafael\, Segovia)\, en los siguientes horarios: \n1ª sesión de 10:00 a 11:30 \n2ª sesión de 12:15 a 13:45 \n3ª sesión de 17:00 a 18:30 \n4ª sesión de 19:15 a 20:45 \nLas plazas están limitadas a 7 participantes por sesión y tienen un coste de 25€ por participante. \nEstas sesiones son las mas solicitadas\, por eso estamos dando 4 horarios diferentes. \nAquí puedes reservar tu plaza https://tienda.esluzdelalma.es/producto/reserva-sesion-de-cuencos-tibetanos-gongs-voz-y-armonicos-en-san-rafael/ o contactándonos al +34 651745795 / asila@esludelalma.es. \nReserva cuanto antes para asegurar tu plaza. \n  \nMuchas gracias por colaborar con nuestro proyecto. \nUn abrazo\nGabriel G. Ferrer
URL:https://esluzdelalma.es/evento/sesiones-grupales-de-sonoterapia/
LOCATION:Asoc. Es Luz del Alma\, Ctra. Coruña 67\, San Rafael\, Segovia\, 40410\, Spain
CATEGORIES:Ferias y eventos,Sonoterapia
ATTACH;FMTTYPE=image/jpeg:https://esluzdelalma.es/wp-content/uploads/2024/09/terapias-y-consultas-es-luz-del-alma-responsive.jpg
ORGANIZER;CN="Gabriel Garc%C3%ADa Ferrer":MAILTO:esluzdelalma@gmail.com
END:VEVENT
BEGIN:VEVENT
DTSTART;TZID=Europe/Madrid:20250606T100000
DTEND;TZID=Europe/Madrid:20250608T210000
DTSTAMP:20260420T211728
CREATED:20241219T191346Z
LAST-MODIFIED:20250420T115909Z
UID:844-1749204000-1749416400@esluzdelalma.es
SUMMARY:BioTerra Irún 6\, 7  y 8  de junio
DESCRIPTION:BIOTERRA es la feria ECO de Euskadi. Un lugar de encuentro y una herramienta que facilita la colaboración entre personas\, empresas y entidades\, interesadas y preocupadas  por la eficiencia energética\, el consumo responsable y los alimentos\, cosmética y textil ecológicos.\n\n\n\n\nBIOTERRA busca generar consciencia sobre la importancia del cuidado y la salud del planeta y sus habitantes. \n\n\nSu objetivo es dar visibilidad al sector ecológico\, a la bioconstrucción\, a las energías renovables\, a la salud y el bienestar.\n\n\n\n\nBioterra no es solo un escaparate de productos\, sino una plataforma de colaboración\, aprendizaje y crecimiento mutuo. \nEn la última edición tuvo +130 expositores y +10.000 visitantes. \nVideo Informativo \nInfo práctica – Bioterra
URL:https://esluzdelalma.es/evento/bioterra-irun-6-7-y-8-de-junio/
LOCATION:FICOBA\, Recinto Ferial de Gipuzkoa\, Avenida Iparralde 43\, 20302 Irun\, Gipuzkoa\, FICOBA\, Recinto Ferial de Gipuzkoa\, Avenida Iparralde 43\, Irun\, Guipuzcoa\, 20302\, Spain
CATEGORIES:Día del Aura,Ferias y eventos,Sonoterapia
ATTACH;FMTTYPE=image/png:https://esluzdelalma.es/wp-content/uploads/2024/12/Texto.png
ORGANIZER;CN="Gabriel Garc%C3%ADa Ferrer":MAILTO:esluzdelalma@gmail.com
END:VEVENT
BEGIN:VEVENT
DTSTART;TZID=Europe/Madrid:20250529T100000
DTEND;TZID=Europe/Madrid:20250601T190000
DTSTAMP:20260420T211728
CREATED:20241115T205507Z
LAST-MODIFIED:20250419T201115Z
UID:824-1748512800-1748804400@esluzdelalma.es
SUMMARY:Feria Biocultura Barcelona 2025
DESCRIPTION:BioCultura. Feria de Productos Ecológicos y Consumo Responsable.\nFeria de Barcelona- La Farga de L’Hospitalet \n29\, 30 y 31 de mayo y 1 de junio de 2025 \n3ª Edición\nBioCultura Información General\n \nBioCultura Barcelona mostrará una vez más que el futuro es «bio» o no será. \nBioCultura llega 31ª edición\, el auge de la producción\, ventas y consumo ecológico. BioCultura como todas las ediciones tiene el firme propósito de seguir sorprendiendo a los visitantes con las últimas novedades del sector ecológico. Cada vez las propuestas son más variadas y nos facilitan el adoptar unos hábitos saludables y a consumir de forma más responsable. \nBioCultura es la feria de productos ecológicos y consumo responsable más grande del estado y reunirá este año\, a unos 400 expositores dedicados a los sectores de alimentación bio\, cosmética ecológica\, moda sostenible\, casa sana\, turismo responsable\, energías renovables\, movilidad sostenible\, artesanías y ONG’s. Paralelamente a la exposición se celebrarán más de 300 actividades y se esperan unos 50.000 visitantes. \nHorario:\n29\, 30\, 31 de mayo y 1 de junio de 2025\, de 10h a 20h (domingo hasta las 19h) \nTipos de entradas y tarifas:\nCon la compra de estas entradas estás colaborando con los proyectos sociales y medioambientales de la ONG Asociación Vida Sana. \nCompra tus entradas aquí \nEntrada General TAQUILLA:\n– jueves 5 euros*\n– viernes 5 euros*\n– sábado 7 euros*\n– domingo 7 euros*Entrada PROMOCIÓN SOLO ONLINE: \n– jueves 4 euros*\n– viernes 4 euros*\n– sábado 6 euros*\n– domingo 6 euros*\nEntrada gratuita*:\n– Niñ@s de 0 a 12 años (12 años incluidos. Entrada facilitada en los mostradores antes de los tornos de acceso)\n– Socios de Vida Sana + 1 acompañante\n– Profesionales del sector (previa inscripción ONLINE)\nPase para los cuatro días de feria (solo online): 16 euros*\nLa entrada da derecho a visitar la Feria y participar de todas las actividades que se celebran en la feria (algunas son con inscripción previa o invitación personal\, ver en programación). \nPIDENOS INVITACIONES GRATUITAS A TRAVES DE NUESTRO FORMULARIO DE CONTACTO
URL:https://esluzdelalma.es/evento/feria-biocultura-barcelona-2025/
LOCATION:RECINTO FERIAL IFEMA\, Av. del Partenón\, 5\, Barajas\, 28042 Madrid\, Madrid\, Madrid\, 28042\, Spain
CATEGORIES:Día del Aura,Ferias y eventos,Sonoterapia
ATTACH;FMTTYPE=image/png:https://esluzdelalma.es/wp-content/uploads/2024/11/Diseno-sin-titulo-9.png
ORGANIZER;CN="Asoc. Vidasana":MAILTO:info@vidasana.org
END:VEVENT
BEGIN:VEVENT
DTSTART;TZID=Europe/Madrid:20250516T100000
DTEND;TZID=Europe/Madrid:20250518T210000
DTSTAMP:20260420T211728
CREATED:20241030T075010Z
LAST-MODIFIED:20250420T115922Z
UID:779-1747389600-1747602000@esluzdelalma.es
SUMMARY:Feria Magic'25 Barcelona
DESCRIPTION:Feria Magic’25 Barcelona Primavera \nEs luz del Alma vamos a participar en la 43′ Edición de la Feria Magic Internacional. \nEstaremos realizando Fotografias\, Analisis y estudios del Aura en la feria y también podréis comprar todo la variedad exclusiva que ofrecemos de Diapasones\, Cuencos Tibetanos\, Gongs\, Tambores Chamánicos\, Cuencos de Cuarzo\, Handpans\, incienso tibetano y artesania de Nepal. \n+de 150 ponentes\n4 auditorios\, 4 salas de exposiciones y + de 120 actividades y ponentes\nsolo 3 días: 16\, 17 y 18 de mayo en Barcelona \n¡¡¡Nos vemos dentro!!!
URL:https://esluzdelalma.es/evento/feria-magic25-barcelona/
LOCATION:RECINTO WORLD TRADE CENTER de Barcelona\, Moll de Barcelona s/n\, Barcelona\, 08039\, Spain
CATEGORIES:Día del Aura,Ferias y eventos,Sonoterapia
ATTACH;FMTTYPE=image/png:https://esluzdelalma.es/wp-content/uploads/2024/10/Diseno-sin-titulo-8.png
END:VEVENT
BEGIN:VEVENT
DTSTART;TZID=Europe/Madrid:20250430T080000
DTEND;TZID=Europe/Madrid:20250504T230000
DTSTAMP:20260420T211728
CREATED:20250411T120243Z
LAST-MODIFIED:20250420T115932Z
UID:901-1746000000-1746399600@esluzdelalma.es
SUMMARY:Retiro «Sonido y Conciencia» – del 30 de Abril al 4 de Mayo 2025 en Ibiza
DESCRIPTION:RESERVA TU PLAZA EN https://tienda.esluzdelalma.es/producto/reserva-retiro-sonidoy-conciencia-del-30-de-abril-al-4-de-mayo-2025-en-ibiza/ \nEste retiro de sanación es un momento para desconectar de la rutina y recargar las baterías a todos los niveles; tiene por finalidad mejorar el equilibrio interior\, la armonía y profundizar eso que llamamos «despertar de la consciencia». Para ello realizaremos un viaje a través de la sonoterapia\, el yoga\, terapias naturales\, el desarrollo de la consciencia\, la filosofía del samkhya indostán\, el budismo tibetano\, la antropología gnóstica\, la alimentación\, así como diversas actividades en la playa\, en contacto con la tierra\, a través del movimiento y del silencio. \nPara este retiro hemos elegido un lugar tan especial como es «CAN 101» un centro alternativo de retiros en medio de la naturaleza\, en un lugar tan MÁGICO como son las montañas de «Sant Joan Labritja\, en IBIZA». \nTendrá una duración de 5 días y 4 noches\, del Miércoles 30 de Abril hasta el Domingo 4 de Mayo. \nEn esos 5 días viviremos experiencias únicas\, que además de recargar nuestras baterías y sanarnos\, sembrarán dentro nuestro la posibilidad de vivir un cambio interior\, que nos acerque mas a descubrir y realizar nuestros verdaderos sueños. \nEn este retiro profundizaremos en diferentes métodos para auto-descubrirnos\, purificarnos y recuperar nuestro poder individual. \nCuencos tibetanos\, gongs\, handpans\, tambores\, diapasones\, prácticas en grupales en la naturaleza\, meditaciones\, yoga tibetano\, comida saludable\, la playa ibicenca y muchas otras sorpresas serán el hilo conductor de esta experiencia sin igual. \n  \nDebido a la ubicación en plena naturaleza del centro de retiros «CAN 101» todos los asistentes quedaremos en un punto de encuentro el día:Miércoles 30 de Abril 2025 entre las 16:00 y las 17:00\,en el parking público de San Joan de Labritja\, Ibiza (detrás de la iglesia de San Joan). Si alguien no tiene otra opción que llegar mas tarde\, tendrá que avisarlo en el momento de la contratación. \nLos horarios y las actividades diarias del retiro se ordenan de la siguiente forma:8:00 – 9:00  Yoga y meditación para recibir el día. \n9:00 – 10:00  Desayuno \n10:00 – 12:00  Taller de desarrollo de la consciencia \n12:00 – 14:00 Tiempo libre \n14:00 – 16:00  Comida  y descanso \n16:00 – 17:00  Paseo por la naturaleza \n17:00 – 19:30  Sonoterapia y practicas al atardecer \n19:30 – 20:30  Tiempo libre \n20:30 – 21:30  Cena ligera \n22:00 Espacio de encuentro creativo (voluntario)(Los actividades y lo horarios pueden estar sujetos a modificaciones por cuestiones climáticas o de fuerza mayor) \n  \nEl retiro finalizará a las 12:00 del Domingo 4 de Mayo.La comida del Domingo está incluida pero es opcional\, quien desee quedarse a comer el Domingo deberá avisar en el momento de la contratación. \n  \nFACILITADORES Y ORGANIZADORES: \nBangha: Tras años en el mundo financiero\, eligió seguir el llamado interior. A través de la meditación y el tantra\, cultiva la presencia y dedica su vida al camino espiritual\, compartiendo consciencia y transformación con otros. \nGenia: Inspirada por la naturaleza y las artes sagradas\, crea espacios cálidos en armonía con el entorno\, donde la meditación\, el tantra y la sanación nos guían de regreso a nuestra esencia más pura y natural. \nTonatiuh Owen Uzcategui: certificado en Arteterapia\, instructor gnóstico de desarrollo de la conciencia e investigador de antropología Celta. \nGabriel G. Ferrer: Profesor de Sonoterapia y Lectura del Aura\, director del Taller de Desarrollo de la Consciencia. Instructor gnóstico\, de samkhya y de filosofías orientales. \n  \nTarifas en función del tipo de estancia\, reservando antes del día 21 de Abril: Básica individual 550€: incluye todas las actividades\, comidas\, aseo común y espacio adaptado para acampar o parking para vehículo camperizado por individuo. No incluye tienda de campaña\, ni alojamiento. 605€ a partir del 21 de AbrilTienda individual 650€: incluye todas las actividades\, comidas\, aseo común y tienda de campaña individual. 715€ a partir del 21 de AbrilHabitación individual 850€: incluye todas las actividades\, comidas\, aseo común y habitación individual. 935€ a partir del 21 de AbrilTienda doble 1150€: incluye todas las actividades\, comidas\, aseo común y tienda de campaña para 2 individuos. 1265€ a partir del 21 de AbrilHabitación doble 1200€: incluye todas las actividades\, comidas\, aseo común y habitación para 2 individuos. 1320€ a partir del 21 de Abril \nTienda triple 1650€: incluye todas las actividades\, comidas\, aseo común y tienda de campaña para 3 individuos. 1815€ a partir del 21 de AbrilHabitación triple 1750€: incluye todas las actividades\, comidas\, aseo común y habitación para 3 individuos. 1925€ a partir del 21 de Abril \n Hemos elegido este lugar con sus características de sencillez y austeridad por 3 motivos:-para poder ofrecer un coste del retiro extremadamente económico apto para todos los públicos\,-para que el retiro tenga un carácter colaborativo\,-para que la experiencia sea real como la vida misma\, con la naturalidad que nos acerca al espíritu.Si debemos decir que este precio es inmejorable en función de la calidad de los contenidos\, de la calidad de la cocina y del compromiso de los facilitadores. Queremos hacer accesible esta experiencia tan especial y profunda a todo el mundo. \nRESERVA TU PLAZA EN https://tienda.esluzdelalma.es/producto/reserva-retiro-sonidoy-conciencia-del-30-de-abril-al-4-de-mayo-2025-en-ibiza/ \nIMPRESCIDIBLE TRAER PARA TODOS LOS ALOJAMIENTOS: \nEsterilla (para yoga y las diferentes dinámicas).Saco de dormir o sábanas.LinternaBañadorPapel y boligrafo \nLOS QUE CONTRATEN LA ESTANCIA BÁSICA DEBEN TRAER SU TIENDA DE CAMPAÑA O VEHICULO CAMPERIZADO PARA DORMIR. \nLugar:07810 San Joan de Labritja\, IBIZA (Islas Baleares\, España) \nComo llegar:Ferry (posibilidad de ir con vehiculo propio): https://www.clickferry.com/esAvión: https://www.edreams.esTransporte público en Ibiza: https://eivissa.tib.org/es/inici \n  \nContacto:+34 651 745 795 Gabriel \, asila@esluzdelalma.es
URL:https://esluzdelalma.es/evento/retiro-sonido-y-conciencia-del-30-de-abril-al-4-de-mayo-2025-en-ibiza/
LOCATION:Madrid
CATEGORIES:Retiros,Sonoterapia
ATTACH;FMTTYPE=image/png:https://esluzdelalma.es/wp-content/uploads/2025/04/Diseno-sin-titulo-7.png
ORGANIZER;CN="Gabriel Garc%C3%ADa Ferrer":MAILTO:esluzdelalma@gmail.com
END:VEVENT
BEGIN:VEVENT
DTSTART;TZID=Europe/Madrid:20250307T130000
DTEND;TZID=Europe/Madrid:20250307T130000
DTSTAMP:20260420T211728
CREATED:20250303T212002Z
LAST-MODIFIED:20250303T212031Z
UID:882-1741352400-1741352400@esluzdelalma.es
SUMMARY:Mini-taller de Terapia de Sonido con diapasones
DESCRIPTION:El viernes 7 de Marzo a las 13:00 celebraremos este mini-taller en la SALA 3 de la Feria esoterica de Madrid-Chamartin https://feriaesotericademadrid.com/actividades/ . \nEl sonido es una poderosa herramienta terapéutica si sabemos utilizarlo de forma adecuada. En este mini-taller de 45 minutos nos introduciremos en el apasionante mundo de la terapia de sonido con diapasones. \nPara mas información sobre nuestras formaciones en SONOTERAPIA visita https://esluzdelalma.es/sonido-terapeutico/ \nVENTA DE ENTRADAS\nLas entradas a las conferencias estarán a la venta\n \nEN EL STAND DE INFORMACIÓN\n\ndurante los días de la Feria. \nLas actividades que sean gratuitas requieren de igual manera que sean adquiridas las entradas correspondientes con el fin de controlar el aforo. \nLas entradas para las actividades gratuitas no podrán ser adquiridas de un día para otro\, solo se emitirán para las conferencias de ese día. \nLas entradas para las actividades de pago sí pueden ser adquiridas con días de antelación (venta en el Stand de Información). \nRogamos que sean adquiridas con al menos \nUNA HORA DE ANTELACIÓN\nal evento.
URL:https://esluzdelalma.es/evento/mini-taller-de-terapia-de-sonido-con-diapasones/
LOCATION:ESTACIÓN DE MADRID – CHAMARTÍN – CLARA CAMPOAMOR\, C/ Agustín de Foxa\, s/n 28036 Madrid\, Madrid\, Madrid\, 28036\, Spain
CATEGORIES:Cursos y talleres,Ferias y eventos
ATTACH;FMTTYPE=image/jpeg:https://esluzdelalma.es/wp-content/uploads/2024/09/CLASES-PARTICULARES-SONOTERAPIA-Y-VIBROACUSTICA-e1730292730989.jpg
END:VEVENT
BEGIN:VEVENT
DTSTART;TZID=Europe/Madrid:20241206T190000
DTEND;TZID=Europe/Madrid:20241206T203000
DTSTAMP:20260420T211728
CREATED:20241115T212352Z
LAST-MODIFIED:20241116T125625Z
UID:830-1733511600-1733517000@esluzdelalma.es
SUMMARY:Sesión grupal de Cuencos Tibetanos\, Gongs\, Voz y Armónicos
DESCRIPTION:En las «Sesiones grupales de Terapia de Sonido o Sonoterapia» realizamos una relajación/terapia\, una meditación\, un viaje de sonido y en determinado momento también colocamos instrumentos en contacto directo con cada uno de los participantes. \nEn nuestro centro los grupos para esta modalidad son de 8 personas máximo\, para poder garantizar la correcta atención a cada uno. La modalidad concierto/meditación es diferente\, no se ponen en contacto directo los instrumentos con el cuerpo de los participantes y pueden ser grupos mucho más numerosos tumbados o sentados. Por eso le hemos llamado «Sesiones grupales» en lugar de Concierto. \nEl estado de relajación que se obtiene en muy poco tiempo a través del sonido\, sorprende y llama mucho la atención a todo el mundo. El hecho de que se puedan liberar dolores musculares y de huesos\, así como conseguir que el participante haga “el click” necesario para sanar todo tipo de enfermedades\, es algo que sorprende por su efectividad y rapidez con el sonido. \nDebemos recordar que “no hay enfermedades\, sino enfermos” y la sociedad actual adolece de no saber parar\, no saber “desconectar”. De ahí que exista una demanda creciente por este tipo de terapias y tratamientos.\nPara esta terapia utilizamos Cuencos Tibetanos\, Diapasones\, Gongs\, Campanas\, la voz y todo tipo de instrumentos musicales específicos de sonoterapia.\nTras poner en práctica estas técnicas desde 2005 hemos creado nuestro propio método. \nReserva cita para realizarte tu “Sesión grupal de Sonoterapia” de forma PRESENCIAL en nuestro centro de San Rafael\, en plena sierra de Guadarrama a solo 45 minutos de Madrid (Moncloa) \nDIRECCIÓN: Asoc. Luz del Alma Ctra. Coruña 67 40410 San Rafael\, Segovia \nDURACIÓN: 90 min \nPRECIO: 20€ por persona \nPLAZAS LIMITADAS A 8 PERSONAS\, RESERVA AQUI TU PLAZA
URL:https://esluzdelalma.es/evento/sesion-grupal-de-cuencos-tibetanos-gongs-voz-y-armonicos/
LOCATION:Asoc. Es Luz del Alma\, Ctra. Coruña 67\, San Rafael\, Segovia\, 40410\, Spain
CATEGORIES:Ferias y eventos,Sonoterapia
ATTACH;FMTTYPE=image/jpeg:https://esluzdelalma.es/wp-content/uploads/2024/05/Espacio-es-luz-del-alma-sonido-terapeutico-sonoterapia.jpg
ORGANIZER;CN="Gabriel Garc%C3%ADa Ferrer":MAILTO:esluzdelalma@gmail.com
END:VEVENT
BEGIN:VEVENT
DTSTART;TZID=Europe/Madrid:20241113T190000
DTEND;TZID=Europe/Madrid:20241113T203000
DTSTAMP:20260420T211728
CREATED:20241204T180057Z
LAST-MODIFIED:20250420T115458Z
UID:771-1731524400-1731529800@esluzdelalma.es
SUMMARY:Taller Desarrollo de la Consciencia
DESCRIPTION:En este taller hemos condensado las enseñanzas y prácticas espirituales que venimos realizando los últimos 20 años en los diferentes senderos budistas\, hinduistas\, cristianos\, sufís\, chamánicos\, gnósticos\, etc…\nAsí como la visión de la vida humana que nos han conferido las diferentes disciplinas como la terapia craneosacral\, la terapia de polaridad\, la nueva medicina germánica\, la biorresonancia\, la sonoterapia\, la astrología\, la bioelectrografía\, la meditación\, etc…\nTodo esto nos ha llevado a integrar una serie de hallazgos y conclusiones\, que ahora mismo forman parte de nuestra vida.\nTodos los detalles sobre el Taller en https://esluzdelalma.es/taller-de-desarrollo-de-la-consciencia/\nEl taller funciona por Donativo Libre Voluntario\, para inscribirte debes rellenar este formulario.\nhttps://esluzdelalma.es/taller-de-desarrollo-de-la-consciencia/#form
URL:https://esluzdelalma.es/evento/taller-desarrollo-de-la-consciencia-2/
LOCATION:Asoc. Es Luz del Alma\, Ctra. Coruña 67\, San Rafael\, Segovia\, 40410\, Spain
CATEGORIES:Cursos y talleres
ATTACH;FMTTYPE=image/jpeg:https://esluzdelalma.es/wp-content/uploads/2024/04/imagen-para-el-taller-del-desarrollo-de-la-consciencia-es-luz-del-alma.jpg
ORGANIZER;CN="Gabriel Garc%C3%ADa Ferrer":MAILTO:esluzdelalma@gmail.com
END:VEVENT
END:VCALENDAR