BEGIN:VCALENDAR
VERSION:2.0
PRODID:-//Es Luz del Alma - ECPv6.15.20//NONSGML v1.0//EN
CALSCALE:GREGORIAN
METHOD:PUBLISH
X-ORIGINAL-URL:https://esluzdelalma.es
X-WR-CALDESC:Eventos para Es Luz del Alma
REFRESH-INTERVAL;VALUE=DURATION:PT1H
X-Robots-Tag:noindex
X-PUBLISHED-TTL:PT1H
BEGIN:VTIMEZONE
TZID:Europe/Madrid
BEGIN:DAYLIGHT
TZOFFSETFROM:+0100
TZOFFSETTO:+0200
TZNAME:CEST
DTSTART:20240331T010000
END:DAYLIGHT
BEGIN:STANDARD
TZOFFSETFROM:+0200
TZOFFSETTO:+0100
TZNAME:CET
DTSTART:20241027T010000
END:STANDARD
BEGIN:DAYLIGHT
TZOFFSETFROM:+0100
TZOFFSETTO:+0200
TZNAME:CEST
DTSTART:20250330T010000
END:DAYLIGHT
BEGIN:STANDARD
TZOFFSETFROM:+0200
TZOFFSETTO:+0100
TZNAME:CET
DTSTART:20251026T010000
END:STANDARD
BEGIN:DAYLIGHT
TZOFFSETFROM:+0100
TZOFFSETTO:+0200
TZNAME:CEST
DTSTART:20260329T010000
END:DAYLIGHT
BEGIN:STANDARD
TZOFFSETFROM:+0200
TZOFFSETTO:+0100
TZNAME:CET
DTSTART:20261025T010000
END:STANDARD
END:VTIMEZONE
BEGIN:VEVENT
DTSTART;TZID=Europe/Madrid:20251205T103000
DTEND;TZID=Europe/Madrid:20251208T190000
DTSTAMP:20260419T174454
CREATED:20251201T125757Z
LAST-MODIFIED:20251201T125757Z
UID:1124-1764930600-1765220400@esluzdelalma.es
SUMMARY:Feria Expo Madrid Holístico en Chamartín
DESCRIPTION:Tras varios años de vacio ¡¡¡Vuelve a Madrid una feria exclusiva de terapias alternativas y bienestar!!! \nSe llama EXPO MADRID HOLÍSTICO y tendrá lugar del Viernes 5 al Lunes 8 de Diciembre en la azotea de la estación de Chamartín. \nHORARIO \nVIERNES 5 – SÁBADO 6 – DOMINGO 7\n10:30 – 20:30 H.\nLUNES 8\n10:30 – 19:00 H. \nENTRADA GRATIS \nEn los últimos años\, las terapias alternativas han experimentado un notable auge en la sociedad. Desde la medicina tradicional china hasta la sanación energética y la aromaterapia\, cada vez más personas buscan en estos enfoques holísticos una respuesta complementaria a la medicina convencional. Sin embargo\, este crecimiento no ha estado exento de controversia. Mientras algunos sectores defienden su utilidad y beneficios\, otros cuestionan su efectividad y la falta de respaldo científico en muchas de estas prácticas. \nA pesar de las polémicas\, la realidad es que existe una demanda creciente por estos servicios. Muchas personas afirman haber encontrado alivio en terapias alternativas cuando la medicina tradicional no ha podido ofrecerles respuestas satisfactorias. La búsqueda del bienestar integral\, que abarca cuerpo\, mente y espíritu\, ha llevado a una parte de la población a optar por tratamientos que se alinean con su filosofía de vida y creencias personales. \nNosotros vamos a estar presentes en este evento de nuestro sector. \nTe esperamos!!!
URL:https://esluzdelalma.es/evento/feria-expo-madrid-holistico-en-chamartin/
LOCATION:ESTACIÓN DE MADRID – CHAMARTÍN – CLARA CAMPOAMOR\, C/ Agustín de Foxa\, s/n 28036 Madrid\, Madrid\, Madrid\, 28036\, Spain
ATTACH;FMTTYPE=image/jpeg:https://esluzdelalma.es/wp-content/uploads/2025/12/Logo-Expo-Madrid-Holistico.jpg
ORGANIZER;CN="Expo Madrid Holistico":MAILTO:https://madridholistico.com/contacto/
END:VEVENT
BEGIN:VEVENT
DTSTART;TZID=Europe/Madrid:20251206T120000
DTEND;TZID=Europe/Madrid:20251206T130000
DTSTAMP:20260419T174454
CREATED:20251012T000251Z
LAST-MODIFIED:20251203T125639Z
UID:1089-1765022400-1765026000@esluzdelalma.es
SUMMARY:KINESIOLOGIA T.I.N. - CONFERENCIA GRATUITA
DESCRIPTION:¿Te gustaría averiguar la causa de las dolencias con una precisión del 80-100% en casos individuales concretos?\n¿Te gustaría aprender una técnica terapéutica tan amplia como el océano y con tantas aplicaciones como arena en el desierto? \nKinesiología supone un concepto nuevo en cuanto a la integración de componentes ya conocidos y con una larga trayectoria experimental\, como la Medicina Tradicional China\, puntos reflejos nerviosos y circulatorios\, terapias manuales\, neurología\, nutrición\, bioquímica\, etc.\nIntegra razón e intuición\, lo científico y lo alternativo por lo que constituye un SISTEMA COMPLETO. \nEste sistema utiliza el test muscular como mecanismo de comunicación\, buscando corregir los posibles desequilibrios y que desde sus orígenes ha tenido en cuenta el global cuerpo-mente. En Kinesiología se evalúa el músculo para ver el nivel de estrés-consciente o inconsciente- que se almacena. \nSabado 06/12/2025 a las 12:00 del mediodia\, en la feria EXPO MADRID HOLISTICO celebraremos una conferencia con ENTRADA LIBRE donde podrás conocer y preguntar todo lo que quieras sobre la Kinesiología \nRellena este formulario para mas información:\nhttps://forms.zohopublic.eu/esluzdelalmaes1/form/InscripcinConferenciaKINESIOLOGIA19102025/formperma/IaIR7R0YVYlTAZ-F7M9mty8S2MbDG8WvX1CJI4rHP1I
URL:https://esluzdelalma.es/evento/kinesiologia-t-i-n-conferencia-gratuita/
LOCATION:ESTACIÓN DE MADRID – CHAMARTÍN – CLARA CAMPOAMOR\, C/ Agustín de Foxa\, s/n 28036 Madrid\, Madrid\, Madrid\, 28036\, Spain
CATEGORIES:Cursos y talleres,Ferias y eventos
ATTACH;FMTTYPE=image/jpeg:https://esluzdelalma.es/wp-content/uploads/2025/10/Formacion-en-Kinesiologia.jpg
ORGANIZER;CN="Expo Madrid Holistico":MAILTO:https://madridholistico.com/contacto/
END:VEVENT
END:VCALENDAR